BEGIN:VCALENDAR
VERSION:2.0
PRODID:-//Library Market//iCal Export//EN
BEGIN:VEVENT
SUMMARY:Genealogy with Larry
UID:73188
DTSTAMP:20260420T104000Z
DTSTART:20260415T170000Z
DTEND:20260415T200000Z
LOCATION:1445 Commerce Dr, Crestview, FL 32539, United States
ROOM: Genealogy with Larry
DESCRIPTION:Larry is here to help you find your history!  He will help yo
 u research and get you started on your genealogy adventure. 
URL:https://okaloosa.librarycalendar.com/index.php/event/genealogy-larry-7
 3188
END:VEVENT
END:VCALENDAR
