BEGIN:VCALENDAR
VERSION:2.0
PRODID:-//Library Market//iCal Export//EN
BEGIN:VEVENT
SUMMARY:The Buzz About Bees
UID:73692
DTSTAMP:20260420T074100Z
DTSTART:20260425T180000Z
DTEND:20260425T190000Z
LOCATION:185 Miracle Strip Parkway SE, Fort Walton Beach, FL 32548, United
  States
ROOM: FWB - Children&#039;s Story Room
DESCRIPTION:Want to learn more about bees? As part of our Arbor Day Celebr
 ation, join Mount Olive Bee Co. for this youth-geared presentation. Kids g
 et to peer inside the world of bees with an observation hive! There will b
 e Q&amp;A time at the end for everyone&#039;s bee-related questions. No re
 gistration required. This is a library program. Please reach out to our l
 ibrary (850-833-9590 or mduffey@fwb.org) for more information.
URL:https://okaloosa.librarycalendar.com/index.php/event/buzz-about-bees-7
 3692
END:VEVENT
END:VCALENDAR
