BEGIN:VCALENDAR
VERSION:2.0
PRODID:-//Library Market//iCal Export//EN
BEGIN:VEVENT
SUMMARY:Play &amp; Connect
UID:74042
DTSTAMP:20260426T012400Z
DTSTART:20260508T153000Z
DTEND:20260508T161500Z
LOCATION:185 Miracle Strip Parkway SE, Fort Walton Beach, FL 32548, United
  States
ROOM: FWB - Children&#039;s Story Room
DESCRIPTION:Play &amp; Connect is a welcoming program where parents and c
 aregivers can relax and connect with one another while their little ones e
 xplore, play, and learn through age-appropriate activities. Designed for c
 hildren ages 0–3, this event encourages social interaction, early learn
 ing, and fun for both children and adults.Join Early Steps at the Fort Wa
 lton Beach Library for a morning of play, connection, and community! An E
 arly Steps Family Resource Specialist will be on site to answer any questi
 ons you may have. Registration is recommended so we know how many people 
 to expect.This is a library program. Please reach out to our library (850-
 833-9590 or mduffey@fwb.org) for more information.
URL:https://okaloosa.librarycalendar.com/index.php/event/play-connect-7404
 2
END:VEVENT
END:VCALENDAR
