BEGIN:VCALENDAR
VERSION:2.0
PRODID:-//Library Market//iCal Export//EN
BEGIN:VEVENT
SUMMARY:Teen Lego Club
UID:66615
DTSTAMP:20260419T141300Z
DTSTART:20260122T223000Z
DTEND:20260123T003000Z
LOCATION:150 Sibert Ave, Destin, FL 32541, United States
ROOM: DES - Computer Room
DESCRIPTION:Teens ages 12+ are invited to drop in for Teen LEGO Club on T
 hursday, January 22nd from 4:30–6:30pm. Build a mini LEGO creature to t
 ake home! Drop-in event—come anytime during the session!Create your own
  mini LEGO build to keep Sponsored by the Friends Guild of the Destin Lib
 rary. 
URL:https://okaloosa.librarycalendar.com/event/teen-lego-club-66615
END:VEVENT
END:VCALENDAR
